BEGIN:VCALENDAR
VERSION:2.0
PRODID:-//United Kung Fu - ECPv6.15.20//NONSGML v1.0//EN
CALSCALE:GREGORIAN
METHOD:PUBLISH
X-ORIGINAL-URL:https://unitedkungfu.com
X-WR-CALDESC:Events for United Kung Fu
REFRESH-INTERVAL;VALUE=DURATION:PT1H
X-Robots-Tag:noindex
X-PUBLISHED-TTL:PT1H
BEGIN:VTIMEZONE
TZID:America/Phoenix
BEGIN:STANDARD
TZOFFSETFROM:-0700
TZOFFSETTO:-0700
TZNAME:MST
DTSTART:20250101T000000
END:STANDARD
END:VTIMEZONE
BEGIN:VEVENT
DTSTART;TZID=America/Phoenix:20260613T120000
DTEND;TZID=America/Phoenix:20260613T130000
DTSTAMP:20260421T181247
CREATED:20240105T230043Z
LAST-MODIFIED:20251223T222407Z
UID:14464-1781352000-1781355600@unitedkungfu.com
SUMMARY:Graduation
DESCRIPTION:
URL:https://unitedkungfu.com/event/graduation-3/
LOCATION:United Kung Fu\, 8279 W Lake Pleasant Pkwy\, #108\, Peoria\, AZ\, 85382\, United States
CATEGORIES:Graduation
ORGANIZER;CN="United Kung Fu":MAILTO:info@unitedkungfu.com
END:VEVENT
BEGIN:VEVENT
DTSTART;TZID=America/Phoenix:20260808T120000
DTEND;TZID=America/Phoenix:20260808T130000
DTSTAMP:20260421T181247
CREATED:20240105T230611Z
LAST-MODIFIED:20251223T222332Z
UID:14467-1786190400-1786194000@unitedkungfu.com
SUMMARY:Graduation
DESCRIPTION:
URL:https://unitedkungfu.com/event/graduation-4/
LOCATION:United Kung Fu\, 8279 W Lake Pleasant Pkwy\, #108\, Peoria\, AZ\, 85382\, United States
CATEGORIES:Graduation
ORGANIZER;CN="United Kung Fu":MAILTO:info@unitedkungfu.com
END:VEVENT
BEGIN:VEVENT
DTSTART;TZID=America/Phoenix:20261010T120000
DTEND;TZID=America/Phoenix:20261010T130000
DTSTAMP:20260421T181247
CREATED:20240105T230730Z
LAST-MODIFIED:20251223T222255Z
UID:14469-1791633600-1791637200@unitedkungfu.com
SUMMARY:Graduation
DESCRIPTION:
URL:https://unitedkungfu.com/event/graduation-5/
LOCATION:United Kung Fu\, 8279 W Lake Pleasant Pkwy\, #108\, Peoria\, AZ\, 85382\, United States
CATEGORIES:Graduation
ORGANIZER;CN="United Kung Fu":MAILTO:info@unitedkungfu.com
END:VEVENT
BEGIN:VEVENT
DTSTART;TZID=America/Phoenix:20261212T120000
DTEND;TZID=America/Phoenix:20261212T130000
DTSTAMP:20260421T181247
CREATED:20240105T230908Z
LAST-MODIFIED:20251223T222217Z
UID:14471-1797076800-1797080400@unitedkungfu.com
SUMMARY:Graduation
DESCRIPTION:
URL:https://unitedkungfu.com/event/graduation-6/
LOCATION:United Kung Fu\, 8279 W Lake Pleasant Pkwy\, #108\, Peoria\, AZ\, 85382\, United States
CATEGORIES:Graduation
ORGANIZER;CN="United Kung Fu":MAILTO:info@unitedkungfu.com
END:VEVENT
END:VCALENDAR