BEGIN:VCALENDAR
VERSION:2.0
PRODID:-//United Kung Fu - ECPv6.15.20//NONSGML v1.0//EN
CALSCALE:GREGORIAN
METHOD:PUBLISH
X-ORIGINAL-URL:https://unitedkungfu.com
X-WR-CALDESC:Events for United Kung Fu
REFRESH-INTERVAL;VALUE=DURATION:PT1H
X-Robots-Tag:noindex
X-PUBLISHED-TTL:PT1H
BEGIN:VTIMEZONE
TZID:America/Phoenix
BEGIN:STANDARD
TZOFFSETFROM:-0700
TZOFFSETTO:-0700
TZNAME:MST
DTSTART:20250101T000000
END:STANDARD
END:VTIMEZONE
BEGIN:VEVENT
DTSTART;VALUE=DATE:20260523
DTEND;VALUE=DATE:20260526
DTSTAMP:20260421T111851
CREATED:20240107T131517Z
LAST-MODIFIED:20251223T164409Z
UID:14508-1779494400-1779753599@unitedkungfu.com
SUMMARY:Classes Not in Session
DESCRIPTION:
URL:https://unitedkungfu.com/event/classes-not-in-session/
LOCATION:United Kung Fu\, 8279 W Lake Pleasant Pkwy\, #108\, Peoria\, AZ\, 85382\, United States
CATEGORIES:Classes,Holiday
ORGANIZER;CN="United Kung Fu":MAILTO:info@unitedkungfu.com
END:VEVENT
BEGIN:VEVENT
DTSTART;VALUE=DATE:20260703
DTEND;VALUE=DATE:20260705
DTSTAMP:20260421T111851
CREATED:20240107T131658Z
LAST-MODIFIED:20251223T164503Z
UID:14510-1783036800-1783209599@unitedkungfu.com
SUMMARY:Classes Not in Session
DESCRIPTION:
URL:https://unitedkungfu.com/event/classes-not-in-session-2/
LOCATION:United Kung Fu\, 8279 W Lake Pleasant Pkwy\, #108\, Peoria\, AZ\, 85382\, United States
CATEGORIES:Classes,Holiday
ORGANIZER;CN="United Kung Fu":MAILTO:info@unitedkungfu.com
END:VEVENT
BEGIN:VEVENT
DTSTART;VALUE=DATE:20260905
DTEND;VALUE=DATE:20260908
DTSTAMP:20260421T111851
CREATED:20240107T134748Z
LAST-MODIFIED:20251223T164554Z
UID:14518-1788566400-1788825599@unitedkungfu.com
SUMMARY:Classes Not in Session
DESCRIPTION:
URL:https://unitedkungfu.com/event/classes-not-in-session-3/
LOCATION:United Kung Fu\, 8279 W Lake Pleasant Pkwy\, #108\, Peoria\, AZ\, 85382\, United States
CATEGORIES:Classes,Holiday
ORGANIZER;CN="United Kung Fu":MAILTO:info@unitedkungfu.com
END:VEVENT
BEGIN:VEVENT
DTSTART;VALUE=DATE:20261126
DTEND;VALUE=DATE:20261129
DTSTAMP:20260421T111851
CREATED:20240107T135725Z
LAST-MODIFIED:20251223T164637Z
UID:14534-1795651200-1795910399@unitedkungfu.com
SUMMARY:Classes Not in Session
DESCRIPTION:
URL:https://unitedkungfu.com/event/classes-not-in-session-4/
LOCATION:United Kung Fu\, 8279 W Lake Pleasant Pkwy\, #108\, Peoria\, AZ\, 85382\, United States
CATEGORIES:Classes,Holiday
ORGANIZER;CN="United Kung Fu":MAILTO:info@unitedkungfu.com
END:VEVENT
BEGIN:VEVENT
DTSTART;VALUE=DATE:20261222
DTEND;VALUE=DATE:20270101
DTSTAMP:20260421T111851
CREATED:20251223T164948Z
LAST-MODIFIED:20251224T151145Z
UID:24634-1797897600-1798761599@unitedkungfu.com
SUMMARY:Classes Not in Session
DESCRIPTION:
URL:https://unitedkungfu.com/event/classews-not-in-session/
LOCATION:AZ
CATEGORIES:Classes,Holiday
END:VEVENT
BEGIN:VEVENT
DTSTART;VALUE=DATE:20270101
DTEND;VALUE=DATE:20270102
DTSTAMP:20260421T111851
CREATED:20251224T150710Z
LAST-MODIFIED:20251224T150826Z
UID:24667-1798761600-1798761600@unitedkungfu.com
SUMMARY:Classes Not in Session
DESCRIPTION:
URL:https://unitedkungfu.com/event/classes-not-in-session-7/
LOCATION:United Kung Fu\, 8279 W Lake Pleasant Pkwy\, #108\, Peoria\, AZ\, 85382\, United States
CATEGORIES:Holiday
ORGANIZER;CN="United Kung Fu":MAILTO:info@unitedkungfu.com
END:VEVENT
END:VCALENDAR