BEGIN:VCALENDAR
VERSION:2.0
PRODID:-//United Kung Fu - ECPv6.15.20//NONSGML v1.0//EN
CALSCALE:GREGORIAN
METHOD:PUBLISH
X-WR-CALNAME:United Kung Fu
X-ORIGINAL-URL:https://unitedkungfu.com
X-WR-CALDESC:Events for United Kung Fu
REFRESH-INTERVAL;VALUE=DURATION:PT1H
X-Robots-Tag:noindex
X-PUBLISHED-TTL:PT1H
BEGIN:VTIMEZONE
TZID:America/Phoenix
BEGIN:STANDARD
TZOFFSETFROM:-0700
TZOFFSETTO:-0700
TZNAME:MST
DTSTART:20250101T000000
END:STANDARD
END:VTIMEZONE
BEGIN:VEVENT
DTSTART;TZID=America/Phoenix:20260118T100000
DTEND;TZID=America/Phoenix:20260118T140000
DTSTAMP:20260421T162449
CREATED:20240105T231221Z
LAST-MODIFIED:20251223T165055Z
UID:14473-1768730400-1768744800@unitedkungfu.com
SUMMARY:Zen Marksman RSO & Trainer's Guide
DESCRIPTION:
URL:https://unitedkungfu.com/event/weapons-seminar-6/
LOCATION:United Kung Fu\, 8279 W Lake Pleasant Pkwy\, #108\, Peoria\, AZ\, 85382\, United States
CATEGORIES:Seminar
ORGANIZER;CN="Zen Marksmen":MAILTO:info@zenmarksmen.com
END:VEVENT
END:VCALENDAR