BEGIN:VCALENDAR
VERSION:2.0
PRODID:-//United Kung Fu - ECPv6.15.20//NONSGML v1.0//EN
CALSCALE:GREGORIAN
METHOD:PUBLISH
X-ORIGINAL-URL:https://unitedkungfu.com
X-WR-CALDESC:Events for United Kung Fu
REFRESH-INTERVAL;VALUE=DURATION:PT1H
X-Robots-Tag:noindex
X-PUBLISHED-TTL:PT1H
BEGIN:VTIMEZONE
TZID:America/Phoenix
BEGIN:STANDARD
TZOFFSETFROM:-0700
TZOFFSETTO:-0700
TZNAME:MST
DTSTART:20250101T000000
END:STANDARD
END:VTIMEZONE
BEGIN:VEVENT
DTSTART;TZID=America/Phoenix:20260418T130000
DTEND;TZID=America/Phoenix:20260418T150000
DTSTAMP:20260421T151151
CREATED:20240107T130724Z
LAST-MODIFIED:20251223T223106Z
UID:14500-1776517200-1776524400@unitedkungfu.com
SUMMARY:Weapons Seminar
DESCRIPTION:
URL:https://unitedkungfu.com/event/weapons-seminar-7/
LOCATION:United Kung Fu\, 8279 W Lake Pleasant Pkwy\, #108\, Peoria\, AZ\, 85382\, United States
CATEGORIES:Classes,Seminar
ORGANIZER;CN="United Kung Fu":MAILTO:info@unitedkungfu.com
END:VEVENT
BEGIN:VEVENT
DTSTART;TZID=America/Phoenix:20260328T130000
DTEND;TZID=America/Phoenix:20260328T150000
DTSTAMP:20260421T151151
CREATED:20240107T130435Z
LAST-MODIFIED:20251223T222911Z
UID:14496-1774702800-1774710000@unitedkungfu.com
SUMMARY:Chen Lao Jia  Seminar
DESCRIPTION:
URL:https://unitedkungfu.com/event/the-alchemy-of-meditation-seminar/
LOCATION:United Kung Fu\, 8279 W Lake Pleasant Pkwy\, #108\, Peoria\, AZ\, 85382\, United States
CATEGORIES:Seminar
ORGANIZER;CN="United Kung Fu":MAILTO:info@unitedkungfu.com
END:VEVENT
BEGIN:VEVENT
DTSTART;TZID=America/Phoenix:20260206T190000
DTEND;TZID=America/Phoenix:20260206T203000
DTSTAMP:20260421T151151
CREATED:20240107T140420Z
LAST-MODIFIED:20251223T222757Z
UID:14540-1770404400-1770409800@unitedkungfu.com
SUMMARY:Women’s Self Defense
DESCRIPTION:
URL:https://unitedkungfu.com/event/womens-self-defense-3/
LOCATION:United Kung Fu\, 8279 W Lake Pleasant Pkwy\, #108\, Peoria\, AZ\, 85382\, United States
CATEGORIES:Seminar,Special Events
ORGANIZER;CN="United Kung Fu":MAILTO:info@unitedkungfu.com
END:VEVENT
BEGIN:VEVENT
DTSTART;TZID=America/Phoenix:20260118T100000
DTEND;TZID=America/Phoenix:20260118T140000
DTSTAMP:20260421T151151
CREATED:20240105T231221Z
LAST-MODIFIED:20251223T165055Z
UID:14473-1768730400-1768744800@unitedkungfu.com
SUMMARY:Zen Marksman RSO & Trainer's Guide
DESCRIPTION:
URL:https://unitedkungfu.com/event/weapons-seminar-6/
LOCATION:United Kung Fu\, 8279 W Lake Pleasant Pkwy\, #108\, Peoria\, AZ\, 85382\, United States
CATEGORIES:Seminar
ORGANIZER;CN="Zen Marksmen":MAILTO:info@zenmarksmen.com
END:VEVENT
END:VCALENDAR