BEGIN:VCALENDAR
VERSION:2.0
PRODID:-//United Kung Fu - ECPv6.15.20//NONSGML v1.0//EN
CALSCALE:GREGORIAN
METHOD:PUBLISH
X-WR-CALNAME:United Kung Fu
X-ORIGINAL-URL:https://unitedkungfu.com
X-WR-CALDESC:Events for United Kung Fu
REFRESH-INTERVAL;VALUE=DURATION:PT1H
X-Robots-Tag:noindex
X-PUBLISHED-TTL:PT1H
BEGIN:VTIMEZONE
TZID:America/Phoenix
BEGIN:STANDARD
TZOFFSETFROM:-0700
TZOFFSETTO:-0700
TZNAME:MST
DTSTART:20250101T000000
END:STANDARD
END:VTIMEZONE
BEGIN:VEVENT
DTSTART;TZID=America/Phoenix:20261110T063000
DTEND;TZID=America/Phoenix:20261110T200000
DTSTAMP:20260421T152050
CREATED:20240107T131856Z
LAST-MODIFIED:20251223T223659Z
UID:14512-1794292200-1794340800@unitedkungfu.com
SUMMARY:Black Belt Evaluation
DESCRIPTION:
URL:https://unitedkungfu.com/event/black-belt-evaluation/
LOCATION:United Kung Fu\, 8279 W Lake Pleasant Pkwy\, #108\, Peoria\, AZ\, 85382\, United States
CATEGORIES:Special Events
ORGANIZER;CN="United Kung Fu":MAILTO:info@unitedkungfu.com
END:VEVENT
BEGIN:VEVENT
DTSTART;TZID=America/Phoenix:20261120T183000
DTEND;TZID=America/Phoenix:20261121T183000
DTSTAMP:20260421T152050
CREATED:20240105T232842Z
LAST-MODIFIED:20251223T165548Z
UID:14489-1795199400-1795285800@unitedkungfu.com
SUMMARY:Zen Marksmen Fall Training
DESCRIPTION:Firday night classrom 6:30 PM – 9:30 PM \nSaturday on the Range
URL:https://unitedkungfu.com/event/zm-fall-training/
LOCATION:Ben Avery Shooting Facility (BASF)\, 4044 W. Black Canyon Blvd.\, Phoenix\, AZ\, 85086\, United States
CATEGORIES:Special Events,Zen Marksmen
ORGANIZER;CN="Zen Marksmen":MAILTO:info@zenmarksmen.com
END:VEVENT
END:VCALENDAR