BEGIN:VCALENDAR
VERSION:2.0
PRODID:-//United Kung Fu - ECPv6.15.20//NONSGML v1.0//EN
CALSCALE:GREGORIAN
METHOD:PUBLISH
X-ORIGINAL-URL:https://unitedkungfu.com
X-WR-CALDESC:Events for United Kung Fu
REFRESH-INTERVAL;VALUE=DURATION:PT1H
X-Robots-Tag:noindex
X-PUBLISHED-TTL:PT1H
BEGIN:VTIMEZONE
TZID:America/Phoenix
BEGIN:STANDARD
TZOFFSETFROM:-0700
TZOFFSETTO:-0700
TZNAME:MST
DTSTART:20250101T000000
END:STANDARD
END:VTIMEZONE
BEGIN:VEVENT
DTSTART;VALUE=DATE:20260724
DTEND;VALUE=DATE:20260727
DTSTAMP:20260421T102753
CREATED:20240107T134511Z
LAST-MODIFIED:20251223T223220Z
UID:14514-1784851200-1785110399@unitedkungfu.com
SUMMARY:Community Retreat
DESCRIPTION:
URL:https://unitedkungfu.com/event/community-retreat/
LOCATION:United Kung Fu\, 8279 W Lake Pleasant Pkwy\, #108\, Peoria\, AZ\, 85382\, United States
CATEGORIES:Special Events
ORGANIZER;CN="United Kung Fu":MAILTO:info@unitedkungfu.com
END:VEVENT
END:VCALENDAR