BEGIN:VCALENDAR
VERSION:2.0
PRODID:-//United Kung Fu - ECPv6.15.20//NONSGML v1.0//EN
CALSCALE:GREGORIAN
METHOD:PUBLISH
X-ORIGINAL-URL:https://unitedkungfu.com
X-WR-CALDESC:Events for United Kung Fu
REFRESH-INTERVAL;VALUE=DURATION:PT1H
X-Robots-Tag:noindex
X-PUBLISHED-TTL:PT1H
BEGIN:VTIMEZONE
TZID:America/Phoenix
BEGIN:STANDARD
TZOFFSETFROM:-0700
TZOFFSETTO:-0700
TZNAME:MST
DTSTART:20250101T000000
END:STANDARD
END:VTIMEZONE
BEGIN:VEVENT
DTSTART;TZID=America/Phoenix:20261219T153000
DTEND;TZID=America/Phoenix:20261219T170000
DTSTAMP:20260421T184037
CREATED:20251223T230630Z
LAST-MODIFIED:20251223T230630Z
UID:24659-1797694200-1797699600@unitedkungfu.com
SUMMARY:Instructor  Celebration
DESCRIPTION:
URL:https://unitedkungfu.com/event/instructor-celebration/
LOCATION:TBD
CATEGORIES:Special Events
ORGANIZER;CN="United Kung Fu":MAILTO:info@unitedkungfu.com
END:VEVENT
END:VCALENDAR