BEGIN:VCALENDAR
VERSION:2.0
PRODID:-//United Kung Fu - ECPv6.15.20//NONSGML v1.0//EN
CALSCALE:GREGORIAN
METHOD:PUBLISH
X-ORIGINAL-URL:https://unitedkungfu.com
X-WR-CALDESC:Events for United Kung Fu
REFRESH-INTERVAL;VALUE=DURATION:PT1H
X-Robots-Tag:noindex
X-PUBLISHED-TTL:PT1H
BEGIN:VTIMEZONE
TZID:America/Phoenix
BEGIN:STANDARD
TZOFFSETFROM:-0700
TZOFFSETTO:-0700
TZNAME:MST
DTSTART:20250101T000000
END:STANDARD
END:VTIMEZONE
BEGIN:VEVENT
DTSTART;TZID=America/Phoenix:20261206T090000
DTEND;TZID=America/Phoenix:20261206T120000
DTSTAMP:20260421T175842
CREATED:20240105T232229Z
LAST-MODIFIED:20251223T165348Z
UID:14485-1796547600-1796558400@unitedkungfu.com
SUMMARY:Zen Marksmen Archery Day
DESCRIPTION:
URL:https://unitedkungfu.com/event/archery-day/
LOCATION:Ben Avery Shooting Facility (BASF)\, 4044 W. Black Canyon Blvd.\, Phoenix\, AZ\, 85086\, United States
CATEGORIES:Zen Marksmen
ORGANIZER;CN="Zen Marksmen":MAILTO:info@zenmarksmen.com
END:VEVENT
BEGIN:VEVENT
DTSTART;TZID=America/Phoenix:20261213T100000
DTEND;TZID=America/Phoenix:20261213T130000
DTSTAMP:20260421T175842
CREATED:20251223T231201Z
LAST-MODIFIED:20251223T231201Z
UID:24663-1797156000-1797166800@unitedkungfu.com
SUMMARY:Zen Marksmen Instructor Training / Rifle 1
DESCRIPTION:
URL:https://unitedkungfu.com/event/zen-marksmen-instructor-training-rifle-1/
CATEGORIES:Zen Marksmen
END:VEVENT
END:VCALENDAR